Workbook
Name 愛知県: 標準地域コード!$L$1019:$L$1073
Name 愛媛県: 標準地域コード!$L$1463:$L$1483
Name 茨城県: 標準地域コード!$L$421:$L$465
Name 岡山県: 標準地域コード!$L$1348:$L$1375
Name 沖縄県: 標準地域コード!$L$1759:$L$1800
Name 岩手県: 標準地域コード!$L$229:$L$262
Name 岐阜県: 標準地域コード!$L$940:$L$982
Name 宮崎県: 標準地域コード!$L$1688:$L$1714
Name 宮城県: 標準地域コード!$L$263:$L$298
Name 京都府: 標準地域コード!$L$1124:$L$1150
Name 熊本県: 標準地域コード!$L$1623:$L$1668
Name 群馬県: 標準地域コード!$L$492:$L$527
Name 広島県: 標準地域コード!$L$1376:$L$1399
Name 香川県: 標準地域コード!$L$1445:$L$1462
Name 高知県: 標準地域コード!$L$1484:$L$1518
Name 佐賀県: 標準地域コード!$L$1580:$L$1600
Name 埼玉県: 標準地域コード!$L$528:$L$591
Name 三重県: 標準地域コード!$L$1074:$L$1103
Name 山形県: 標準地域コード!$L$325:$L$360
Name 山口県: 標準地域コード!$L$1400:$L$1419
Name 山梨県: 標準地域コード!$L$834:$L$861
Name 滋賀県: 標準地域コード!$L$1104:$L$1123
Name 鹿児島県: 標準地域コード!$L$1715:$L$1758
Name 秋田県: 標準地域コード!$L$299:$L$324
Name 新潟県: 標準地域コード!$L$749:$L$779
Name 神奈川県: 標準地域コード!$L$715:$L$748
Name 青森県: 標準地域コード!$L$188:$L$228
Name 静岡県: 標準地域コード!$L$983:$L$1018
Name 石川県: 標準地域コード!$L$796:$L$815
Name 千葉県: 標準地域コード!$L$592:$L$646
Name 大阪府: 標準地域コード!$L$1151:$L$1194
Name 大分県: 標準地域コード!$L$1669:$L$1687
Name 長崎県: 標準地域コード!$L$1601:$L$1622
Name 長野県: 標準地域コード!$L$862:$L$939
Name 鳥取県: 標準地域コード!$L$1308:$L$1327
Name 島根県: 標準地域コード!$L$1328:$L$1347
Name 東京都: 標準地域コード!$L$647:$L$714
Name 徳島県: 標準地域コード!$L$1420:$L$1444
Name 栃木県: 標準地域コード!$L$466:$L$491
Name 奈良県: 標準地域コード!$L$1237:$L$1276
Name 富山県: 標準地域コード!$L$780:$L$795
Name 福井県: 標準地域コード!$L$816:$L$833
Name 福岡県: 標準地域コード!$L$1519:$L$1579
Name 福島県: 標準地域コード!$L$361:$L$420
Name 兵庫県: 標準地域コード!$L$1195:$L$1236
Name 北海道: 標準地域コード!$L$2:$L$187
Name 和歌山県: 標準地域コード!$L$1277:$L$1307

Sheet 相談シート
B1: 【研究者との連携】相談シート
B2: 相談日
B3: 都道府県
B4: 自治体名
B5: 所属 | K5: 人口問題
B6: 役職 | K6: 子育て・教育
B7: 氏名 ※ | K7: 健康・福祉
B8: 電話番号 | K8: 公共インフラ・まちづくり
B9: メールアドレス | K9: 防災・危機管理
B10: 相談内容 | C10: 案件名 | K10: 住民生活・安全
C11: 政策課題 | K11: 環境・エネルギー
C12: 内容 | K12: 産業振興
K13: 観光・国際交流
K14: 情報政策
B15: 相談開始 希望時期 | K15: 広報PR
B16: 備考 （求める研究者の条件等） | K16: 行政運営
B17: 使用データ | K17: その他
B18: ※ 氏名は、旧姓（旧氏）で記入いただいても構いません。
E20: 送付先： | F20: 総務省統計局統計データ利活用センター
F21: data-rikatsuyou@soumu.go.jp

Sheet 記入例
B1: 【研究者との連携】相談シート
B2: 日付 | D2: 45031
B3: 都道府県 | D3: ○○県 | K3: 人口問題
B4: 自治体名 | D4: △△市 | K4: 子育て・教育
B5: 所属 | D5: ○○部△△課 | K5: 健康・福祉
B6: 役職 | D6: ×× | K6: 公共インフラ・まちづくり
B7: 氏名 | D7: ○○ ×× | K7: 防災・危機管理
B8: 電話番号 | D8: ○○○ー○○○ー○○○○ | K8: 住民生活・安全
B9: メールアドレス | D9: ○○@△△△△ | K9: 環境・エネルギー
B10: 相談内容 | C10: 案件名 | D10: 人口推移 | K10: 産業振興
C11: 政策課題 | D11: 公共インフラ・まちづくり | K11: 観光・国際交流
C12: 内容 | D12: 人口減少が進む中、鉄道がごく一部にしか通っていないことから、市民の主な足となっている市バスの役割を、持続可能な形として見直していく政策がもとめられています。 過疎化が進む地域における、新しい交通インフラのありかたについて経験・知見があり、効果的な調査方法やデータの分析方法について助言、ご指導のうえ、政策立案や実証まで連携していただける専門家の方を必要としております。 初年度の予算に限りはありますが、初年度の調査分析によって、見込まれる効果の説得力を持たせることで次年度以降の予算確保を目指します。 | K12: 情報政策
K13: 広報PR
K14: 行政運営
B15: 相談開始 希望時期 | D15: 来年度予算の請求に見積もりを間に合わせたいことから、一旦今年8〜10月にご相談をさせていただきたい。 | K15: その他
B16: 備考 （求める研究者の条件等） | D16: 実際に調査が始まった場合に現場に立ち会っていただける場合は、相談自体はWEB会議等の対応として遠隔地の方でも構わない。
B17: 使用データ | D17: 市民アンケート、市内バスの利用状況の推移
E19: 送付先： | F19: 総務省統計局統計データ利活用センター
F20: data-rikatsuyou@soumu.go.jp

Sheet 集計用
A1: 月 | B1: 日 | C1: 都道府県 | D1: 自治体名 | E1: 相談者 | F1: 案件名 | G1: 分野 | H1: 相談内容 | I1: 開始時期 | J1: 条件 | K1: 使用データ
A2: =MONTH(相談シート!D2) -> 1 | B2: =DAY(相談シート!D2) -> 0 | C2: =相談シート!D3 -> 0 | D2: =相談シート!D4 -> 0 | E2: =相談シート!D5&CHAR(10)&相談シート!D6&" "&相談シート!D7 | F2: =相談シート!D10 -> 0 | G2: =相談シート!D11 -> 0 | H2: =相談シート!D12 -> 0 | I2: =相談シート!D15 -> 0 | J2: =相談シート!D16 -> 0 | K2: =相談シート!D17 -> 0

Sheet 標準地域コード
A1: ken-code | B1: sityouson-code | C1: tiiki-code | G1: ken-name | H1: sityouson-name1 | I1: sityouson-name2 | J1: sityouson-name3 | K1: yomigana | P1: ken-name
A2: 1 | B2: 0 | C2: 1000 | D2: 1000 | E2: =IF(LEN(D2)=4,"0"&D2,D2) -> 01000 | F2: =IF(B2=0,LEFT(E2,2),E2) -> 01 | G2: 北海道 | K2: ほっかいどう | L2: =IF(B2=0,G2,IF(J2="",H2,J2)) -> 北海道 | M2: =_xlfn.CONCAT(G2,L2) -> 北海道北海道 | N2: =E2 -> 01000 | P2: 北海道
A3: 1 | B3: 100 | C3: 1100 | D3: 1100 | E3: =IF(LEN(D3)=4,"0"&D3,D3) -> 01100 | F3: =IF(B3=0,LEFT(E3,2),E3) -> 01100 | G3: 北海道 | H3: 札幌市 | K3: さっぽろし | L3: =IF(B3=0,G3,IF(J3="",H3,J3)) -> 札幌市 | M3: =_xlfn.CONCAT(G3,L3) -> 北海道札幌市 | N3: =E3 -> 01100 | P3: 青森県
A4: 1 | B4: 202 | C4: 1202 | D4: 1202 | E4: =IF(LEN(D4)=4,"0"&D4,D4) -> 01202 | F4: =IF(B4=0,LEFT(E4,2),E4) -> 01202 | G4: 北海道 | J4: 函館市 | K4: はこだてし | L4: =IF(B4=0,G4,IF(J4="",H4,J4)) -> 函館市 | M4: =_xlfn.CONCAT(G4,L4) -> 北海道函館市 | N4: =E4 -> 01202 | P4: 岩手県
A5: 1 | B5: 203 | C5: 1203 | D5: 1203 | E5: =IF(LEN(D5)=4,"0"&D5,D5) -> 01203 | F5: =IF(B5=0,LEFT(E5,2),E5) -> 01203 | G5: 北海道 | J5: 小樽市 | K5: おたるし | L5: =IF(B5=0,G5,IF(J5="",H5,J5)) -> 小樽市 | M5: =_xlfn.CONCAT(G5,L5) -> 北海道小樽市 | N5: =E5 -> 01203 | P5: 宮城県
A6: 1 | B6: 204 | C6: 1204 | D6: 1204 | E6: =IF(LEN(D6)=4,"0"&D6,D6) -> 01204 | F6: =IF(B6=0,LEFT(E6,2),E6) -> 01204 | G6: 北海道 | J6: 旭川市 | K6: あさひかわし | L6: =IF(B6=0,G6,IF(J6="",H6,J6)) -> 旭川市 | M6: =_xlfn.CONCAT(G6,L6) -> 北海道旭川市 | N6: =E6 -> 01204 | P6: 秋田県
A7: 1 | B7: 205 | C7: 1205 | D7: 1205 | E7: =IF(LEN(D7)=4,"0"&D7,D7) -> 01205 | F7: =IF(B7=0,LEFT(E7,2),E7) -> 01205 | G7: 北海道 | J7: 室蘭市 | K7: むろらんし | L7: =IF(B7=0,G7,IF(J7="",H7,J7)) -> 室蘭市 | M7: =_xlfn.CONCAT(G7,L7) -> 北海道室蘭市 | N7: =E7 -> 01205 | P7: 山形県
A8: 1 | B8: 206 | C8: 1206 | D8: 1206 | E8: =IF(LEN(D8)=4,"0"&D8,D8) -> 01206 | F8: =IF(B8=0,LEFT(E8,2),E8) -> 01206 | G8: 北海道 | J8: 釧路市 | K8: くしろし | L8: =IF(B8=0,G8,IF(J8="",H8,J8)) -> 釧路市 | M8: =_xlfn.CONCAT(G8,L8) -> 北海道釧路市 | N8: =E8 -> 01206 | P8: 福島県
A9: 1 | B9: 207 | C9: 1207 | D9: 1207 | E9: =IF(LEN(D9)=4,"0"&D9,D9) -> 01207 | F9: =IF(B9=0,LEFT(E9,2),E9) -> 01207 | G9: 北海道 | J9: 帯広市 | K9: おびひろし | L9: =IF(B9=0,G9,IF(J9="",H9,J9)) -> 帯広市 | M9: =_xlfn.CONCAT(G9,L9) -> 北海道帯広市 | N9: =E9 -> 01207 | P9: 茨城県
A10: 1 | B10: 208 | C10: 1208 | D10: 1208 | E10: =IF(LEN(D10)=4,"0"&D10,D10) -> 01208 | F10: =IF(B10=0,LEFT(E10,2),E10) -> 01208 | G10: 北海道 | J10: 北見市 | K10: きたみし | L10: =IF(B10=0,G10,IF(J10="",H10,J10)) -> 北見市 | M10: =_xlfn.CONCAT(G10,L10) -> 北海道北見市 | N10: =E10 -> 01208 | P10: 栃木県
A11: 1 | B11: 209 | C11: 1209 | D11: 1209 | E11: =IF(LEN(D11)=4,"0"&D11,D11) -> 01209 | F11: =IF(B11=0,LEFT(E11,2),E11) -> 01209 | G11: 北海道 | J11: 夕張市 | K11: ゆうばりし | L11: =IF(B11=0,G11,IF(J11="",H11,J11)) -> 夕張市 | M11: =_xlfn.CONCAT(G11,L11) -> 北海道夕張市 | N11: =E11 -> 01209 | P11: 群馬県
A12: 1 | B12: 210 | C12: 1210 | D12: 1210 | E12: =IF(LEN(D12)=4,"0"&D12,D12) -> 01210 | F12: =IF(B12=0,LEFT(E12,2),E12) -> 01210 | G12: 北海道 | J12: 岩見沢市 | K12: いわみざわし | L12: =IF(B12=0,G12,IF(J12="",H12,J12)) -> 岩見沢市 | M12: =_xlfn.CONCAT(G12,L12) -> 北海道岩見沢市 | N12: =E12 -> 01210 | P12: 埼玉県
A13: 1 | B13: 211 | C13: 1211 | D13: 1211 | E13: =IF(LEN(D13)=4,"0"&D13,D13) -> 01211 | F13: =IF(B13=0,LEFT(E13,2),E13) -> 01211 | G13: 北海道 | J13: 網走市 | K13: あばしりし | L13: =IF(B13=0,G13,IF(J13="",H13,J13)) -> 網走市 | M13: =_xlfn.CONCAT(G13,L13) -> 北海道網走市 | N13: =E13 -> 01211 | P13: 千葉県
A14: 1 | B14: 212 | C14: 1212 | D14: 1212 | E14: =IF(LEN(D14)=4,"0"&D14,D14) -> 01212 | F14: =IF(B14=0,LEFT(E14,2),E14) -> 01212 | G14: 北海道 | J14: 留萌市 | K14: るもいし | L14: =IF(B14=0,G14,IF(J14="",H14,J14)) -> 留萌市 | M14: =_xlfn.CONCAT(G14,L14) -> 北海道留萌市 | N14: =E14 -> 01212 | P14: 東京都
A15: 1 | B15: 213 | C15: 1213 | D15: 1213 | E15: =IF(LEN(D15)=4,"0"&D15,D15) -> 01213 | F15: =IF(B15=0,LEFT(E15,2),E15) -> 01213 | G15: 北海道 | J15: 苫小牧市 | K15: とまこまいし | L15: =IF(B15=0,G15,IF(J15="",H15,J15)) -> 苫小牧市 | M15: =_xlfn.CONCAT(G15,L15) -> 北海道苫小牧市 | N15: =E15 -> 01213 | P15: 神奈川県
... A37: 1 | B37: 236 | C37: 1236 | D37: 1236 | E37: =IF(LEN(D37)=4,"0"&D37,D37) -> 01236 | F37: =IF(B37=0,LEFT(E37,2),E37) -> 01236 | G37: 北海道 | J37: 北斗市 | K37: ほくとし | L37: =IF(B37=0,G37,IF(J37="",H37,J37)) -> 北斗市 | M37: =_xlfn.CONCAT(G37,L37) -> 北海道北斗市 | N37: =E37 -> 01236 | P37: 徳島県
A38: 1 | B38: 303 | C38: 1303 | D38: 1303 | E38: =IF(LEN(D38)=4,"0"&D38,D38) -> 01303 | F38: =IF(B38=0,LEFT(E38,2),E38) -> 01303 | G38: 北海道 | H38: 石狩振興局 | J38: 当別町 | K38: とうべつちょう | L38: =IF(B38=0,G38,IF(J38="",H38,J38)) -> 当別町 | M38: =_xlfn.CONCAT(G38,L38) -> 北海道当別町 | N38: =E38 -> 01303 | P38: 香川県
A39: 1 | B39: 304 | C39: 1304 | D39: 1304 | E39: =IF(LEN(D39)=4,"0"&D39,D39) -> 01304 | F39: =IF(B39=0,LEFT(E39,2),E39) -> 01304 | G39: 北海道 | H39: 石狩振興局 | J39: 新篠津村 | K39: しんしのつむら | L39: =IF(B39=0,G39,IF(J39="",H39,J39)) -> 新篠津村 | M39: =_xlfn.CONCAT(G39,L39) -> 北海道新篠津村 | N39: =E39 -> 01304 | P39: 愛媛県
A40: 1 | B40: 331 | C40: 1331 | D40: 1331 | E40: =IF(LEN(D40)=4,"0"&D40,D40) -> 01331 | F40: =IF(B40=0,LEFT(E40,2),E40) -> 01331 | G40: 北海道 | H40: 渡島総合振興局 | J40: 松前町 | K40: まつまえちょう | L40: =IF(B40=0,G40,IF(J40="",H40,J40)) -> 松前町 | M40: =_xlfn.CONCAT(G40,L40) -> 北海道松前町 | N40: =E40 -> 01331 | P40: 高知県
A41: 1 | B41: 332 | C41: 1332 | D41: 1332 | E41: =IF(LEN(D41)=4,"0"&D41,D41) -> 01332 | F41: =IF(B41=0,LEFT(E41,2),E41) -> 01332 | G41: 北海道 | H41: 渡島総合振興局 | J41: 福島町 | K41: ふくしまちょう | L41: =IF(B41=0,G41,IF(J41="",H41,J41)) -> 福島町 | M41: =_xlfn.CONCAT(G41,L41) -> 北海道福島町 | N41: =E41 -> 01332 | P41: 福岡県
A42: 1 | B42: 333 | C42: 1333 | D42: 1333 | E42: =IF(LEN(D42)=4,"0"&D42,D42) -> 01333 | F42: =IF(B42=0,LEFT(E42,2),E42) -> 01333 | G42: 北海道 | H42: 渡島総合振興局 | J42: 知内町 | K42: しりうちちょう | L42: =IF(B42=0,G42,IF(J42="",H42,J42)) -> 知内町 | M42: =_xlfn.CONCAT(G42,L42) -> 北海道知内町 | N42: =E42 -> 01333 | P42: 佐賀県
A43: 1 | B43: 334 | C43: 1334 | D43: 1334 | E43: =IF(LEN(D43)=4,"0"&D43,D43) -> 01334 | F43: =IF(B43=0,LEFT(E43,2),E43) -> 01334 | G43: 北海道 | H43: 渡島総合振興局 | J43: 木古内町 | K43: きこないちょう | L43: =IF(B43=0,G43,IF(J43="",H43,J43)) -> 木古内町 | M43: =_xlfn.CONCAT(G43,L43) -> 北海道木古内町 | N43: =E43 -> 01334 | P43: 長崎県
A44: 1 | B44: 337 | C44: 1337 | D44: 1337 | E44: =IF(LEN(D44)=4,"0"&D44,D44) -> 01337 | F44: =IF(B44=0,LEFT(E44,2),E44) -> 01337 | G44: 北海道 | H44: 渡島総合振興局 | J44: 七飯町 | K44: ななえちょう | L44: =IF(B44=0,G44,IF(J44="",H44,J44)) -> 七飯町 | M44: =_xlfn.CONCAT(G44,L44) -> 北海道七飯町 | N44: =E44 -> 01337 | P44: 熊本県
A45: 1 | B45: 343 | C45: 1343 | D45: 1343 | E45: =IF(LEN(D45)=4,"0"&D45,D45) -> 01343 | F45: =IF(B45=0,LEFT(E45,2),E45) -> 01343 | G45: 北海道 | H45: 渡島総合振興局 | J45: 鹿部町 | K45: しかべちょう | L45: =IF(B45=0,G45,IF(J45="",H45,J45)) -> 鹿部町 | M45: =_xlfn.CONCAT(G45,L45) -> 北海道鹿部町 | N45: =E45 -> 01343 | P45: 大分県
A46: 1 | B46: 345 | C46: 1345 | D46: 1345 | E46: =IF(LEN(D46)=4,"0"&D46,D46) -> 01345 | F46: =IF(B46=0,LEFT(E46,2),E46) -> 01345 | G46: 北海道 | H46: 渡島総合振興局 | J46: 森町 | K46: もりまち | L46: =IF(B46=0,G46,IF(J46="",H46,J46)) -> 森町 | M46: =_xlfn.CONCAT(G46,L46) -> 北海道森町 | N46: =E46 -> 01345 | P46: 宮崎県
A47: 1 | B47: 346 | C47: 1346 | D47: 1346 | E47: =IF(LEN(D47)=4,"0"&D47,D47) -> 01346 | F47: =IF(B47=0,LEFT(E47,2),E47) -> 01346 | G47: 北海道 | H47: 渡島総合振興局 | J47: 八雲町 | K47: やくもちょう | L47: =IF(B47=0,G47,IF(J47="",H47,J47)) -> 八雲町 | M47: =_xlfn.CONCAT(G47,L47) -> 北海道八雲町 | N47: =E47 -> 01346 | P47: 鹿児島県
A48: 1 | B48: 347 | C48: 1347 | D48: 1347 | E48: =IF(LEN(D48)=4,"0"&D48,D48) -> 01347 | F48: =IF(B48=0,LEFT(E48,2),E48) -> 01347 | G48: 北海道 | H48: 渡島総合振興局 | J48: 長万部町 | K48: おしゃまんべちょう | L48: =IF(B48=0,G48,IF(J48="",H48,J48)) -> 長万部町 | M48: =_xlfn.CONCAT(G48,L48) -> 北海道長万部町 | N48: =E48 -> 01347 | P48: 沖縄県
A49: 1 | B49: 361 | C49: 1361 | D49: 1361 | E49: =IF(LEN(D49)=4,"0"&D49,D49) -> 01361 | F49: =IF(B49=0,LEFT(E49,2),E49) -> 01361 | G49: 北海道 | H49: 檜山振興局 | J49: 江差町 | K49: えさしちょう | L49: =IF(B49=0,G49,IF(J49="",H49,J49)) -> 江差町 | M49: =_xlfn.CONCAT(G49,L49) -> 北海道江差町 | N49: =E49 -> 01361
A50: 1 | B50: 362 | C50: 1362 | D50: 1362 | E50: =IF(LEN(D50)=4,"0"&D50,D50) -> 01362 | F50: =IF(B50=0,LEFT(E50,2),E50) -> 01362 | G50: 北海道 | H50: 檜山振興局 | J50: 上ノ国町 | K50: かみのくにちょう | L50: =IF(B50=0,G50,IF(J50="",H50,J50)) -> 上ノ国町 | M50: =_xlfn.CONCAT(G50,L50) -> 北海道上ノ国町 | N50: =E50 -> 01362
A51: 1 | B51: 363 | C51: 1363 | D51: 1363 | E51: =IF(LEN(D51)=4,"0"&D51,D51) -> 01363 | F51: =IF(B51=0,LEFT(E51,2),E51) -> 01363 | G51: 北海道 | H51: 檜山振興局 | J51: 厚沢部町 | K51: あっさぶちょう | L51: =IF(B51=0,G51,IF(J51="",H51,J51)) -> 厚沢部町 | M51: =_xlfn.CONCAT(G51,L51) -> 北海道厚沢部町 | N51: =E51 -> 01363
A52: 1 | B52: 364 | C52: 1364 | D52: 1364 | E52: =IF(LEN(D52)=4,"0"&D52,D52) -> 01364 | F52: =IF(B52=0,LEFT(E52,2),E52) -> 01364 | G52: 北海道 | H52: 檜山振興局 | J52: 乙部町 | K52: おとべちょう | L52: =IF(B52=0,G52,IF(J52="",H52,J52)) -> 乙部町 | M52: =_xlfn.CONCAT(G52,L52) -> 北海道乙部町 | N52: =E52 -> 01364
A53: 1 | B53: 367 | C53: 1367 | D53: 1367 | E53: =IF(LEN(D53)=4,"0"&D53,D53) -> 01367 | F53: =IF(B53=0,LEFT(E53,2),E53) -> 01367 | G53: 北海道 | H53: 檜山振興局 | J53: 奥尻町 | K53: おくしりちょう | L53: =IF(B53=0,G53,IF(J53="",H53,J53)) -> 奥尻町 | M53: =_xlfn.CONCAT(G53,L53) -> 北海道奥尻町 | N53: =E53 -> 01367
A54: 1 | B54: 370 | C54: 1370 | D54: 1370 | E54: =IF(LEN(D54)=4,"0"&D54,D54) -> 01370 | F54: =IF(B54=0,LEFT(E54,2),E54) -> 01370 | G54: 北海道 | H54: 檜山振興局 | J54: 今金町 | K54: いまかねちょう | L54: =IF(B54=0,G54,IF(J54="",H54,J54)) -> 今金町 | M54: =_xlfn.CONCAT(G54,L54) -> 北海道今金町 | N54: =E54 -> 01370
A55: 1 | B55: 371 | C55: 1371 | D55: 1371 | E55: =IF(LEN(D55)=4,"0"&D55,D55) -> 01371 | F55: =IF(B55=0,LEFT(E55,2),E55) -> 01371 | G55: 北海道 | H55: 檜山振興局 | J55: せたな町 | K55: せたなちょう | L55: =IF(B55=0,G55,IF(J55="",H55,J55)) -> せたな町 | M55: =_xlfn.CONCAT(G55,L55) -> 北海道せたな町 | N55: =E55 -> 01371
A56: 1 | B56: 391 | C56: 1391 | D56: 1391 | E56: =IF(LEN(D56)=4,"0"&D56,D56) -> 01391 | F56: =IF(B56=0,LEFT(E56,2),E56) -> 01391 | G56: 北海道 | H56: 後志総合振興局 | J56: 島牧村 | K56: しままきむら | L56: =IF(B56=0,G56,IF(J56="",H56,J56)) -> 島牧村 | M56: =_xlfn.CONCAT(G56,L56) -> 北海道島牧村 | N56: =E56 -> 01391
A57: 1 | B57: 392 | C57: 1392 | D57: 1392 | E57: =IF(LEN(D57)=4,"0"&D57,D57) -> 01392 | F57: =IF(B57=0,LEFT(E57,2),E57) -> 01392 | G57: 北海道 | H57: 後志総合振興局 | J57: 寿都町 | K57: すっつちょう | L57: =IF(B57=0,G57,IF(J57="",H57,J57)) -> 寿都町 | M57: =_xlfn.CONCAT(G57,L57) -> 北海道寿都町 | N57: =E57 -> 01392
A58: 1 | B58: 393 | C58: 1393 | D58: 1393 | E58: =IF(LEN(D58)=4,"0"&D58,D58) -> 01393 | F58: =IF(B58=0,LEFT(E58,2),E58) -> 01393 | G58: 北海道 | H58: 後志総合振興局 | J58: 黒松内町 | K58: くろまつないちょう | L58: =IF(B58=0,G58,IF(J58="",H58,J58)) -> 黒松内町 | M58: =_xlfn.CONCAT(G58,L58) -> 北海道黒松内町 | N58: =E58 -> 01393
A59: 1 | B59: 394 | C59: 1394 | D59: 1394 | E59: =IF(LEN(D59)=4,"0"&D59,D59) -> 01394 | F59: =IF(B59=0,LEFT(E59,2),E59) -> 01394 | G59: 北海道 | H59: 後志総合振興局 | J59: 蘭越町 | K59: らんこしちょう | L59: =IF(B59=0,G59,IF(J59="",H59,J59)) -> 蘭越町 | M59: =_xlfn.CONCAT(G59,L59) -> 北海道蘭越町 | N59: =E59 -> 01394
A60: 1 | B60: 395 | C60: 1395 | D60: 1395 | E60: =IF(LEN(D60)=4,"0"&D60,D60) -> 01395 | F60: =IF(B60=0,LEFT(E60,2),E60) -> 01395 | G60: 北海道 | H60: 後志総合振興局 | J60: ニセコ町 | K60: にせこちょう | L60: =IF(B60=0,G60,IF(J60="",H60,J60)) -> ニセコ町 | M60: =_xlfn.CONCAT(G60,L60) -> 北海道ニセコ町 | N60: =E60 -> 01395
... A187: 1 | B187: 700 | C187: 1700 | D187: 1700 | E187: =IF(LEN(D187)=4,"0"&D187,D187) -> 01700 | F187: =IF(B187=0,LEFT(E187,2),E187) -> 01700 | G187: 北海道 | H187: 根室振興局 | J187: 蘂取村 | K187: しべとろむら | L187: =IF(B187=0,G187,IF(J187="",H187,J187)) -> 蘂取村 | M187: =_xlfn.CONCAT(G187,L187) -> 北海道蘂取村 | N187: =E187 -> 01700
...
