Workbook
Name 愛知県: 標準地域コード!$L$1019:$L$1073
Name 愛媛県: 標準地域コード!$L$1463:$L$1483
Name 茨城県: 標準地域コード!$L$421:$L$465
Name 岡山県: 標準地域コード!$L$1348:$L$1375
Name 沖縄県: 標準地域コード!$L$1759:$L$1800
Name 岩手県: 標準地域コード!$L$229:$L$262
Name 岐阜県: 標準地域コード!$L$940:$L$982
Name 宮崎県: 標準地域コード!$L$1688:$L$1714
Name 宮城県: 標準地域コード!$L$263:$L$298
Name 京都府: 標準地域コード!$L$1124:$L$1150
Name 熊本県: 標準地域コード!$L$1623:$L$1668
Name 群馬県: 標準地域コード!$L$492:$L$527
Name 広島県: 標準地域コード!$L$1376:$L$1399
Name 香川県: 標準地域コード!$L$1445:$L$1462
Name 高知県: 標準地域コード!$L$1484:$L$1518
Name 佐賀県: 標準地域コード!$L$1580:$L$1600
Name 埼玉県: 標準地域コード!$L$528:$L$591
Name 三重県: 標準地域コード!$L$1074:$L$1103
Name 山形県: 標準地域コード!$L$325:$L$360
Name 山口県: 標準地域コード!$L$1400:$L$1419
Name 山梨県: 標準地域コード!$L$834:$L$861
Name 滋賀県: 標準地域コード!$L$1104:$L$1123
Name 鹿児島県: 標準地域コード!$L$1715:$L$1758
Name 秋田県: 標準地域コード!$L$299:$L$324
Name 新潟県: 標準地域コード!$L$749:$L$779
Name 神奈川県: 標準地域コード!$L$715:$L$748
Name 青森県: 標準地域コード!$L$188:$L$228
Name 静岡県: 標準地域コード!$L$983:$L$1018
Name 石川県: 標準地域コード!$L$796:$L$815
Name 千葉県: 標準地域コード!$L$592:$L$646
Name 大阪府: 標準地域コード!$L$1151:$L$1194
Name 大分県: 標準地域コード!$L$1669:$L$1687
Name 長崎県: 標準地域コード!$L$1601:$L$1622
Name 長野県: 標準地域コード!$L$862:$L$939
Name 鳥取県: 標準地域コード!$L$1308:$L$1327
Name 島根県: 標準地域コード!$L$1328:$L$1347
Name 東京都: 標準地域コード!$L$647:$L$714
Name 徳島県: 標準地域コード!$L$1420:$L$1444
Name 栃木県: 標準地域コード!$L$466:$L$491
Name 奈良県: 標準地域コード!$L$1237:$L$1276
Name 富山県: 標準地域コード!$L$780:$L$795
Name 福井県: 標準地域コード!$L$816:$L$833
Name 福岡県: 標準地域コード!$L$1519:$L$1579
Name 福島県: 標準地域コード!$L$361:$L$420
Name 兵庫県: 標準地域コード!$L$1195:$L$1236
Name 北海道: 標準地域コード!$L$2:$L$187
Name 和歌山県: 標準地域コード!$L$1277:$L$1307

Sheet 相談シート
B1: 【研究者との連携】相談シート
B2: 相談日
B3: 都道府県
B4: 自治体名
B5: 所属 | K5: 人口問題
B6: 役職 | K6: 子育て・教育
B7: 氏名 ※ | K7: 健康・福祉
B8: 電話番号 | K8: 公共インフラ・まちづくり
B9: メールアドレス | K9: 防災・危機管理
B10: 相談内容 | C10: 案件名 | K10: 住民生活・安全
C11: 政策課題 | K11: 環境・エネルギー
C12: 内容 | K12: 産業振興
K13: 観光・国際交流
K14: 情報政策
B15: 相談開始 希望時期 | K15: 広報PR
B16: 備考 （求める研究者の条件等） | K16: 行政運営
B17: 使用データ | K17: その他
B18: ※ 氏名は、旧姓（旧氏）で記入いただいても構いません。
E20: 送付先： | F20: 総務省統計局統計データ利活用センター
F21: data-rikatsuyou@soumu.go.jp

Sheet 記入例
B1: 【研究者との連携】相談シート
B2: 日付 | D2: 45031
B3: 都道府県 | D3: ○○県 | K3: 人口問題
B4: 自治体名 | D4: △△市 | K4: 子育て・教育
B5: 所属 | D5: ○○部△△課 | K5: 健康・福祉
B6: 役職 | D6: ×× | K6: 公共インフラ・まちづくり
B7: 氏名 | D7: ○○ ×× | K7: 防災・危機管理
B8: 電話番号 | D8: ○○○ー○○○ー○○○○ | K8: 住民生活・安全
B9: メールアドレス | D9: ○○@△△△△ | K9: 環境・エネルギー
B10: 相談内容 | C10: 案件名 | D10: 人口推移 | K10: 産業振興
C11: 政策課題 | D11: 公共インフラ・まちづくり | K11: 観光・国際交流
C12: 内容 | D12: 人口減少が進む中、鉄道がごく一部にしか通っていないことから、市民の主な足となっている市バスの役割を、持続可能な形として見直していく政策がもとめられています。 過疎化が進む地域における、新しい交通インフラのありかたについて経験・知見があり、効果的な調査方法やデータの分析方法について助言、ご指導のうえ、政策立案や実証まで連携していただける専門家の方を必要としております。 初年度の予算に限りはありますが、初年度の調査分析によって、見込まれる効果の説得力を持たせることで次年度以降の予算確保を目指します。 | K12: 情報政策
K13: 広報PR
K14: 行政運営
B15: 相談開始 希望時期 | D15: 来年度予算の請求に見積もりを間に合わせたいことから、一旦今年8〜10月にご相談をさせていただきたい。 | K15: その他
B16: 備考 （求める研究者の条件等） | D16: 実際に調査が始まった場合に現場に立ち会っていただける場合は、相談自体はWEB会議等の対応として遠隔地の方でも構わない。
B17: 使用データ | D17: 市民アンケート、市内バスの利用状況の推移
E19: 送付先： | F19: 総務省統計局統計データ利活用センター
F20: data-rikatsuyou@soumu.go.jp

Sheet 集計用
A1: 月 | B1: 日 | C1: 都道府県 | D1: 自治体名 | E1: 相談者 | F1: 案件名 | G1: 分野 | H1: 相談内容 | I1: 開始時期 | J1: 条件 | K1: 使用データ
A2: =MONTH(相談シート!D2) -> 1 | B2: =DAY(相談シート!D2) -> 0 | C2: =相談シート!D3 -> 0 | D2: =相談シート!D4 -> 0 | E2: =相談シート!D5&CHAR(10)&相談シート!D6&" "&相談シート!D7 | F2: =相談シート!D10 -> 0 | G2: =相談シート!D11 -> 0 | H2: =相談シート!D12 -> 0 | I2: =相談シート!D15 -> 0 | J2: =相談シート!D16 -> 0 | K2: =相談シート!D17 -> 0

Sheet 標準地域コード
A1: ken-code | B1: sityouson-code | C1: tiiki-code | G1: ken-name | H1: sityouson-name1 | I1: sityouson-name2 | J1: sityouson-name3 | K1: yomigana | P1: ken-name
A2: 1 | B2: 0 | C2: 1000 | D2: 1000 | E2: =IF(LEN(D2)=4,"0"&D2,D2) -> 01000 | F2: =IF(B2=0,LEFT(E2,2),E2) -> 01 | G2: 北海道 | K2: ほっかいどう | L2: =IF(B2=0,G2,IF(J2="",H2,J2)) -> 北海道 | M2: =_xlfn.CONCAT(G2,L2) -> 北海道北海道 | N2: =E2 -> 01000 | P2: 北海道
A3: 1 | B3: 100 | C3: 1100 | D3: 1100 | E3: =IF(LEN(D3)=4,"0"&D3,D3) -> 01100 | F3: =IF(B3=0,LEFT(E3,2),E3) -> 01100 | G3: 北海道 | H3: 札幌市 | K3: さっぽろし | L3: =IF(B3=0,G3,IF(J3="",H3,J3)) -> 札幌市 | M3: =_xlfn.CONCAT(G3,L3) -> 北海道札幌市 | N3: =E3 -> 01100 | P3: 青森県
A4: 1 | B4: 202 | C4: 1202 | D4: 1202 | E4: =IF(LEN(D4)=4,"0"&D4,D4) -> 01202 | F4: =IF(B4=0,LEFT(E4,2),E4) -> 01202 | G4: 北海道 | J4: 函館市 | K4: はこだてし | L4: =IF(B4=0,G4,IF(J4="",H4,J4)) -> 函館市 | M4: =_xlfn.CONCAT(G4,L4) -> 北海道函館市 | N4: =E4 -> 01202 | P4: 岩手県
A5: 1 | B5: 203 | C5: 1203 | D5: 1203 | E5: =IF(LEN(D5)=4,"0"&D5,D5) -> 01203 | F5: =IF(B5=0,LEFT(E5,2),E5) -> 01203 | G5: 北海道 | J5: 小樽市 | K5: おたるし | L5: =IF(B5=0,G5,IF(J5="",H5,J5)) -> 小樽市 | M5: =_xlfn.CONCAT(G5,L5) -> 北海道小樽市 | N5: =E5 -> 01203 | P5: 宮城県
A6: 1 | B6: 204 | C6: 1204 | D6: 1204 | E6: =IF(LEN(D6)=4,"0"&D6,D6) -> 01204 | F6: =IF(B6=0,LEFT(E6,2),E6) -> 01204 | G6: 北海道 | J6: 旭川市 | K6: あさひかわし | L6: =IF(B6=0,G6,IF(J6="",H6,J6)) -> 旭川市 | M6: =_xlfn.CONCAT(G6,L6) -> 北海道旭川市 | N6: =E6 -> 01204 | P6: 秋田県
A7: 1 | B7: 205 | C7: 1205 | D7: 1205 | E7: =IF(LEN(D7)=4,"0"&D7,D7) -> 01205 | F7: =IF(B7=0,LEFT(E7,2),E7) -> 01205 | G7: 北海道 | J7: 室蘭市 | K7: むろらんし | L7: =IF(B7=0,G7,IF(J7="",H7,J7)) -> 室蘭市 | M7: =_xlfn.CONCAT(G7,L7) -> 北海道室蘭市 | N7: =E7 -> 01205 | P7: 山形県
A8: 1 | B8: 206 | C8: 1206 | D8: 1206 | E8: =IF(LEN(D8)=4,"0"&D8,D8) -> 01206 | F8: =IF(B8=0,LEFT(E8,2),E8) -> 01206 | G8: 北海道 | J8: 釧路市 | K8: くしろし | L8: =IF(B8=0,G8,IF(J8="",H8,J8)) -> 釧路市 | M8: =_xlfn.CONCAT(G8,L8) -> 北海道釧路市 | N8: =E8 -> 01206 | P8: 福島県
A9: 1 | B9: 207 | C9: 1207 | D9: 1207 | E9: =IF(LEN(D9)=4,"0"&D9,D9) -> 01207 | F9: =IF(B9=0,LEFT(E9,2),E9) -> 01207 | G9: 北海道 | J9: 帯広市 | K9: おびひろし | L9: =IF(B9=0,G9,IF(J9="",H9,J9)) -> 帯広市 | M9: =_xlfn.CONCAT(G9,L9) -> 北海道帯広市 | N9: =E9 -> 01207 | P9: 茨城県
A10: 1 | B10: 208 | C10: 1208 | D10: 1208 | E10: =IF(LEN(D10)=4,"0"&D10,D10) -> 01208 | F10: =IF(B10=0,LEFT(E10,2),E10) -> 01208 | G10: 北海道 | J10: 北見市 | K10: きたみし | L10: =IF(B10=0,G10,IF(J10="",H10,J10)) -> 北見市 | M10: =_xlfn.CONCAT(G10,L10) -> 北海道北見市 | N10: =E10 -> 01208 | P10: 栃木県
A11: 1 | B11: 209 | C11: 1209 | D11: 1209 | E11: =IF(LEN(D11)=4,"0"&D11,D11) -> 01209 | F11: =IF(B11=0,LEFT(E11,2),E11) -> 01209 | G11: 北海道 | J11: 夕張市 | K11: ゆうばりし | L11: =IF(B11=0,G11,IF(J11="",H11,J11)) -> 夕張市 | M11: =_xlfn.CONCAT(G11,L11) -> 北海道夕張市 | N11: =E11 -> 01209 | P11: 群馬県
A12: 1 | B12: 210 | C12: 1210 | D12: 1210 | E12: =IF(LEN(D12)=4,"0"&D12,D12) -> 01210 | F12: =IF(B12=0,LEFT(E12,2),E12) -> 01210 | G12: 北海道 | J12: 岩見沢市 | K12: いわみざわし | L12: =IF(B12=0,G12,IF(J12="",H12,J12)) -> 岩見沢市 | M12: =_xlfn.CONCAT(G12,L12) -> 北海道岩見沢市 | N12: =E12 -> 01210 | P12: 埼玉県
A13: 1 | B13: 211 | C13: 1211 | D13: 1211 | E13: =IF(LEN(D13)=4,"0"&D13,D13) -> 01211 | F13: =IF(B13=0,LEFT(E13,2),E13) -> 01211 | G13: 北海道 | J13: 網走市 | K13: あばしりし | L13: =IF(B13=0,G13,IF(J13="",H13,J13)) -> 網走市 | M13: =_xlfn.CONCAT(G13,L13) -> 北海道網走市 | N13: =E13 -> 01211 | P13: 千葉県
A14: 1 | B14: 212 | C14: 1212 | D14: 1212 | E14: =IF(LEN(D14)=4,"0"&D14,D14) -> 01212 | F14: =IF(B14=0,LEFT(E14,2),E14) -> 01212 | G14: 北海道 | J14: 留萌市 | K14: るもいし | L14: =IF(B14=0,G14,IF(J14="",H14,J14)) -> 留萌市 | M14: =_xlfn.CONCAT(G14,L14) -> 北海道留萌市 | N14: =E14 -> 01212 | P14: 東京都
A15: 1 | B15: 213 | C15: 1213 | D15: 1213 | E15: =IF(LEN(D15)=4,"0"&D15,D15) -> 01213 | F15: =IF(B15=0,LEFT(E15,2),E15) -> 01213 | G15: 北海道 | J15: 苫小牧市 | K15: とまこまいし | L15: =IF(B15=0,G15,IF(J15="",H15,J15)) -> 苫小牧市 | M15: =_xlfn.CONCAT(G15,L15) -> 北海道苫小牧市 | N15: =E15 -> 01213 | P15: 神奈川県
... A37: 1 | B37: 236 | C37: 1236 | D37: 1236 | E37: =IF(LEN(D37)=4,"0"&D37,D37) -> 01236 | F37: =IF(B37=0,LEFT(E37,2),E37) -> 01236 | G37: 北海道 | J37: 北斗市 | K37: ほくとし | L37: =IF(B37=0,G37,IF(J37="",H37,J37)) -> 北斗市 | M37: =_xlfn.CONCAT(G37,L37) -> 北海道北斗市 | N37: =E37 -> 01236 | P37: 徳島県
A38: 1 | B38: 303 | C38: 1303 | D38: 1303 | E38: =IF(LEN(D38)=4,"0"&D38,D38) -> 01303 | F38: =IF(B38=0,LEFT(E38,2),E38) -> 01303 | G38: 北海道 | H38: 石狩振興局 | J38: 当別町 | K38: とうべつちょう | L38: =IF(B38=0,G38,IF(J38="",H38,J38)) -> 当別町 | M38: =_xlfn.CONCAT(G38,L38) -> 北海道当別町 | N38: =E38 -> 01303 | P38: 香川県
A39: 1 | B39: 304 | C39: 1304 | D39: 1304 | E39: =IF(LEN(D39)=4,"0"&D39,D39) -> 01304 | F39: =IF(B39=0,LEFT(E39,2),E39) -> 01304 | G39: 北海道 | H39: 石狩振興局 | J39: 新篠津村 | K39: しんしのつむら | L39: =IF(B39=0,G39,IF(J39="",H39,J39)) -> 新篠津村 | M39: =_xlfn.CONCAT(G39,L39) -> 北海道新篠津村 | N39: =E39 -> 01304 | P39: 愛媛県
A40: 1 | B40: 331 | C40: 1331 | D40: 1331 | E40: =IF(LEN(D40)=4,"0"&D40,D40) -> 01331 | F40: =IF(B40=0,LEFT(E40,2),E40) -> 01331 | G40: 北海道 | H40: 渡島総合振興局 | J40: 松前町 | K40: まつまえちょう | L40: =IF(B40=0,G40,IF(J40="",H40,J40)) -> 松前町 | M40: =_xlfn.CONCAT(G40,L40) -> 北海道松前町 | N40: =E40 -> 01331 | P40: 高知県
A41: 1 | B41: 332 | C41: 1332 | D41: 1332 | E41: =IF(LEN(D41)=4,"0"&D41,D41) -> 01332 | F41: =IF(B41=0,LEFT(E41,2),E41) -> 01332 | G41: 北海道 | H41: 渡島総合振興局 | J41: 福島町 | K41: ふくしまちょう | L41: =IF(B41=0,G41,IF(J41="",H41,J41)) -> 福島町 | M41: =_xlfn.CONCAT(G41,L41) -> 北海道福島町 | N41: =E41 -> 01332 | P41: 福岡県
A42: 1 | B42: 333 | C42: 1333 | D42: 1333 | E42: =IF(LEN(D42)=4,"0"&D42,D42) -> 01333 | F42: =IF(B42=0,LEFT(E42,2),E42) -> 01333 | G42: 北海道 | H42: 渡島総合振興局 | J42: 知内町 | K42: しりうちちょう | L42: =IF(B42=0,G42,IF(J42="",H42,J42)) -> 知内町 | M42: =_xlfn.CONCAT(G42,L42) -> 北海道知内町 | N42: =E42 -> 01333 | P42: 佐賀県
A43: 1 | B43: 334 | C43: 1334 | D43: 1334 | E43: =IF(LEN(D43)=4,"0"&D43,D43) -> 01334 | F43: =IF(B43=0,LEFT(E43,2),E43) -> 01334 | G43: 北海道 | H43: 渡島総合振興局 | J43: 木古内町 | K43: きこないちょう | L43: =IF(B43=0,G43,IF(J43="",H43,J43)) -> 木古内町 | M43: =_xlfn.CONCAT(G43,L43) -> 北海道木古内町 | N43: =E43 -> 01334 | P43: 長崎県
A44: 1 | B44: 337 | C44: 1337 | D44: 1337 | E44: =IF(LEN(D44)=4,"0"&D44,D44) -> 01337 | F44: =IF(B44=0,LEFT(E44,2),E44) -> 01337 | G44: 北海道 | H44: 渡島総合振興局 | J44: 七飯町 | K44: ななえちょう | L44: =IF(B44=0,G44,IF(J44="",H44,J44)) -> 七飯町 | M44: =_xlfn.CONCAT(G44,L44) -> 北海道七飯町 | N44: =E44 -> 01337 | P44: 熊本県
A45: 1 | B45: 343 | C45: 1343 | D45: 1343 | E45: =IF(LEN(D45)=4,"0"&D45,D45) -> 01343 | F45: =IF(B45=0,LEFT(E45,2),E45) -> 01343 | G45: 北海道 | H45: 渡島総合振興局 | J45: 鹿部町 | K45: しかべちょう | L45: =IF(B45=0,G45,IF(J45="",H45,J45)) -> 鹿部町 | M45: =_xlfn.CONCAT(G45,L45) -> 北海道鹿部町 | N45: =E45 -> 01343 | P45: 大分県
A46: 1 | B46: 345 | C46: 1345 | D46: 1345 | E46: =IF(LEN(D46)=4,"0"&D46,D46) -> 01345 | F46: =IF(B46=0,LEFT(E46,2),E46) -> 01345 | G46: 北海道 | H46: 渡島総合振興局 | J46: 森町 | K46: もりまち | L46: =IF(B46=0,G46,IF(J46="",H46,J46)) -> 森町 | M46: =_xlfn.CONCAT(G46,L46) -> 北海道森町 | N46: =E46 -> 01345 | P46: 宮崎県
A47: 1 | B47: 346 | C47: 1346 | D47: 1346 | E47: =IF(LEN(D47)=4,"0"&D47,D47) -> 01346 | F47: =IF(B47=0,LEFT(E47,2),E47) -> 01346 | G47: 北海道 | H47: 渡島総合振興局 | J47: 八雲町 | K47: やくもちょう | L47: =IF(B47=0,G47,IF(J47="",H47,J47)) -> 八雲町 | M47: =_xlfn.CONCAT(G47,L47) -> 北海道八雲町 | N47: =E47 -> 01346 | P47: 鹿児島県
A48: 1 | B48: 347 | C48: 1347 | D48: 1347 | E48: =IF(LEN(D48)=4,"0"&D48,D48) -> 01347 | F48: =IF(B48=0,LEFT(E48,2),E48) -> 01347 | G48: 北海道 | H48: 渡島総合振興局 | J48: 長万部町 | K48: おしゃまんべちょう | L48: =IF(B48=0,G48,IF(J48="",H48,J48)) -> 長万部町 | M48: =_xlfn.CONCAT(G48,L48) -> 北海道長万部町 | N48: =E48 -> 01347 | P48: 沖縄県
A49: 1 | B49: 361 | C49: 1361 | D49: 1361 | E49: =IF(LEN(D49)=4,"0"&D49,D49) -> 01361 | F49: =IF(B49=0,LEFT(E49,2),E49) -> 01361 | G49: 北海道 | H49: 檜山振興局 | J49: 江差町 | K49: えさしちょう | L49: =IF(B49=0,G49,IF(J49="",H49,J49)) -> 江差町 | M49: =_xlfn.CONCAT(G49,L49) -> 北海道江差町 | N49: =E49 -> 01361
A50: 1 | B50: 362 | C50: 1362 | D50: 1362 | E50: =IF(LEN(D50)=4,"0"&D50,D50) -> 01362 | F50: =IF(B50=0,LEFT(E50,2),E50) -> 01362 | G50: 北海道 | H50: 檜山振興局 | J50: 上ノ国町 | K50: かみのくにちょう | L50: =IF(B50=0,G50,IF(J50="",H50,J50)) -> 上ノ国町 | M50: =_xlfn.CONCAT(G50,L50) -> 北海道上ノ国町 | N50: =E50 -> 01362
A51: 1 | B51: 363 | C51: 1363 | D51: 1363 | E51: =IF(LEN(D51)=4,"0"&D51,D51) -> 01363 | F51: =IF(B51=0,LEFT(E51,2),E51) -> 01363 | G51: 北海道 | H51: 檜山振興局 | J51: 厚沢部町 | K51: あっさぶちょう | L51: =IF(B51=0,G51,IF(J51="",H51,J51)) -> 厚沢部町 | M51: =_xlfn.CONCAT(G51,L51) -> 北海道厚沢部町 | N51: =E51 -> 01363
A52: 1 | B52: 364 | C52: 1364 | D52: 1364 | E52: =IF(LEN(D52)=4,"0"&D52,D52) -> 01364 | F52: =IF(B52=0,LEFT(E52,2),E52) -> 01364 | G52: 北海道 | H52: 檜山振興局 | J52: 乙部町 | K52: おとべちょう | L52: =IF(B52=0,G52,IF(J52="",H52,J52)) -> 乙部町 | M52: =_xlfn.CONCAT(G52,L52) -> 北海道乙部町 | N52: =E52 -> 01364
A53: 1 | B53: 367 | C53: 1367 | D53: 1367 | E53: =IF(LEN(D53)=4,"0"&D53,D53) -> 01367 | F53: =IF(B53=0,LEFT(E53,2),E53) -> 01367 | G53: 北海道 | H53: 檜山振興局 | J53: 奥尻町 | K53: おくしりちょう | L53: =IF(B53=0,G53,IF(J53="",H53,J53)) -> 奥尻町 | M53: =_xlfn.CONCAT(G53,L53) -> 北海道奥尻町 | N53: =E53 -> 01367
A54: 1 | B54: 370 | C54: 1370 | D54: 1370 | E54: =IF(LEN(D54)=4,"0"&D54,D54) -> 01370 | F54: =IF(B54=0,LEFT(E54,2),E54) -> 01370 | G54: 北海道 | H54: 檜山振興局 | J54: 今金町 | K54: いまかねちょう | L54: =IF(B54=0,G54,IF(J54="",H54,J54)) -> 今金町 | M54: =_xlfn.CONCAT(G54,L54) -> 北海道今金町 | N54: =E54 -> 01370
A55: 1 | B55: 371 | C55: 1371 | D55: 1371 | E55: =IF(LEN(D55)=4,"0"&D55,D55) -> 01371 | F55: =IF(B55=0,LEFT(E55,2),E55) -> 01371 | G55: 北海道 | H55: 檜山振興局 | J55: せたな町 | K55: せたなちょう | L55: =IF(B55=0,G55,IF(J55="",H55,J55)) -> せたな町 | M55: =_xlfn.CONCAT(G55,L55) -> 北海道せたな町 | N55: =E55 -> 01371
A56: 1 | B56: 391 | C56: 1391 | D56: 1391 | E56: =IF(LEN(D56)=4,"0"&D56,D56) -> 01391 | F56: =IF(B56=0,LEFT(E56,2),E56) -> 01391 | G56: 北海道 | H56: 後志総合振興局 | J56: 島牧村 | K56: しままきむら | L56: =IF(B56=0,G56,IF(J56="",H56,J56)) -> 島牧村 | M56: =_xlfn.CONCAT(G56,L56) -> 北海道島牧村 | N56: =E56 -> 01391
A57: 1 | B57: 392 | C57: 1392 | D57: 1392 | E57: =IF(LEN(D57)=4,"0"&D57,D57) -> 01392 | F57: =IF(B57=0,LEFT(E57,2),E57) -> 01392 | G57: 北海道 | H57: 後志総合振興局 | J57: 寿都町 | K57: すっつちょう | L57: =IF(B57=0,G57,IF(J57="",H57,J57)) -> 寿都町 | M57: =_xlfn.CONCAT(G57,L57) -> 北海道寿都町 | N57: =E57 -> 01392
A58: 1 | B58: 393 | C58: 1393 | D58: 1393 | E58: =IF(LEN(D58)=4,"0"&D58,D58) -> 01393 | F58: =IF(B58=0,LEFT(E58,2),E58) -> 01393 | G58: 北海道 | H58: 後志総合振興局 | J58: 黒松内町 | K58: くろまつないちょう | L58: =IF(B58=0,G58,IF(J58="",H58,J58)) -> 黒松内町 | M58: =_xlfn.CONCAT(G58,L58) -> 北海道黒松内町 | N58: =E58 -> 01393
A59: 1 | B59: 394 | C59: 1394 | D59: 1394 | E59: =IF(LEN(D59)=4,"0"&D59,D59) -> 01394 | F59: =IF(B59=0,LEFT(E59,2),E59) -> 01394 | G59: 北海道 | H59: 後志総合振興局 | J59: 蘭越町 | K59: らんこしちょう | L59: =IF(B59=0,G59,IF(J59="",H59,J59)) -> 蘭越町 | M59: =_xlfn.CONCAT(G59,L59) -> 北海道蘭越町 | N59: =E59 -> 01394
A60: 1 | B60: 395 | C60: 1395 | D60: 1395 | E60: =IF(LEN(D60)=4,"0"&D60,D60) -> 01395 | F60: =IF(B60=0,LEFT(E60,2),E60) -> 01395 | G60: 北海道 | H60: 後志総合振興局 | J60: ニセコ町 | K60: にせこちょう | L60: =IF(B60=0,G60,IF(J60="",H60,J60)) -> ニセコ町 | M60: =_xlfn.CONCAT(G60,L60) -> 北海道ニセコ町 | N60: =E60 -> 01395
... A187: 1 | B187: 700 | C187: 1700 | D187: 1700 | E187: =IF(LEN(D187)=4,"0"&D187,D187) -> 01700 | F187: =IF(B187=0,LEFT(E187,2),E187) -> 01700 | G187: 北海道 | H187: 根室振興局 | J187: 蘂取村 | K187: しべとろむら | L187: =IF(B187=0,G187,IF(J187="",H187,J187)) -> 蘂取村 | M187: =_xlfn.CONCAT(G187,L187) -> 北海道蘂取村 | N187: =E187 -> 01700
A188: 2 | B188: 0 | C188: 2000 | D188: 2000 | E188: =IF(LEN(D188)=4,"0"&D188,D188) -> 02000 | F188: =IF(B188=0,LEFT(E188,2),E188) -> 02 | G188: 青森県 | K188: あおもりけん | L188: =IF(B188=0,G188,IF(J188="",H188,J188)) -> 青森県 | M188: =_xlfn.CONCAT(G188,L188) -> 青森県青森県 | N188: =E188 -> 02000
A189: 2 | B189: 201 | C189: 2201 | D189: 2201 | E189: =IF(LEN(D189)=4,"0"&D189,D189) -> 02201 | F189: =IF(B189=0,LEFT(E189,2),E189) -> 02201 | G189: 青森県 | J189: 青森市 | K189: あおもりし | L189: =IF(B189=0,G189,IF(J189="",H189,J189)) -> 青森市 | M189: =_xlfn.CONCAT(G189,L189) -> 青森県青森市 | N189: =E189 -> 02201
A190: 2 | B190: 202 | C190: 2202 | D190: 2202 | E190: =IF(LEN(D190)=4,"0"&D190,D190) -> 02202 | F190: =IF(B190=0,LEFT(E190,2),E190) -> 02202 | G190: 青森県 | J190: 弘前市 | K190: ひろさきし | L190: =IF(B190=0,G190,IF(J190="",H190,J190)) -> 弘前市 | M190: =_xlfn.CONCAT(G190,L190) -> 青森県弘前市 | N190: =E190 -> 02202
A191: 2 | B191: 203 | C191: 2203 | D191: 2203 | E191: =IF(LEN(D191)=4,"0"&D191,D191) -> 02203 | F191: =IF(B191=0,LEFT(E191,2),E191) -> 02203 | G191: 青森県 | J191: 八戸市 | K191: はちのへし | L191: =IF(B191=0,G191,IF(J191="",H191,J191)) -> 八戸市 | M191: =_xlfn.CONCAT(G191,L191) -> 青森県八戸市 | N191: =E191 -> 02203
A192: 2 | B192: 204 | C192: 2204 | D192: 2204 | E192: =IF(LEN(D192)=4,"0"&D192,D192) -> 02204 | F192: =IF(B192=0,LEFT(E192,2),E192) -> 02204 | G192: 青森県 | J192: 黒石市 | K192: くろいしし | L192: =IF(B192=0,G192,IF(J192="",H192,J192)) -> 黒石市 | M192: =_xlfn.CONCAT(G192,L192) -> 青森県黒石市 | N192: =E192 -> 02204
A193: 2 | B193: 205 | C193: 2205 | D193: 2205 | E193: =IF(LEN(D193)=4,"0"&D193,D193) -> 02205 | F193: =IF(B193=0,LEFT(E193,2),E193) -> 02205 | G193: 青森県 | J193: 五所川原市 | K193: ごしょがわらし | L193: =IF(B193=0,G193,IF(J193="",H193,J193)) -> 五所川原市 | M193: =_xlfn.CONCAT(G193,L193) -> 青森県五所川原市 | N193: =E193 -> 02205
A194: 2 | B194: 206 | C194: 2206 | D194: 2206 | E194: =IF(LEN(D194)=4,"0"&D194,D194) -> 02206 | F194: =IF(B194=0,LEFT(E194,2),E194) -> 02206 | G194: 青森県 | J194: 十和田市 | K194: とわだし | L194: =IF(B194=0,G194,IF(J194="",H194,J194)) -> 十和田市 | M194: =_xlfn.CONCAT(G194,L194) -> 青森県十和田市 | N194: =E194 -> 02206
A195: 2 | B195: 207 | C195: 2207 | D195: 2207 | E195: =IF(LEN(D195)=4,"0"&D195,D195) -> 02207 | F195: =IF(B195=0,LEFT(E195,2),E195) -> 02207 | G195: 青森県 | J195: 三沢市 | K195: みさわし | L195: =IF(B195=0,G195,IF(J195="",H195,J195)) -> 三沢市 | M195: =_xlfn.CONCAT(G195,L195) -> 青森県三沢市 | N195: =E195 -> 02207
A196: 2 | B196: 208 | C196: 2208 | D196: 2208 | E196: =IF(LEN(D196)=4,"0"&D196,D196) -> 02208 | F196: =IF(B196=0,LEFT(E196,2),E196) -> 02208 | G196: 青森県 | J196: むつ市 | K196: むつし | L196: =IF(B196=0,G196,IF(J196="",H196,J196)) -> むつ市 | M196: =_xlfn.CONCAT(G196,L196) -> 青森県むつ市 | N196: =E196 -> 02208
A197: 2 | B197: 209 | C197: 2209 | D197: 2209 | E197: =IF(LEN(D197)=4,"0"&D197,D197) -> 02209 | F197: =IF(B197=0,LEFT(E197,2),E197) -> 02209 | G197: 青森県 | J197: つがる市 | K197: つがるし | L197: =IF(B197=0,G197,IF(J197="",H197,J197)) -> つがる市 | M197: =_xlfn.CONCAT(G197,L197) -> 青森県つがる市 | N197: =E197 -> 02209
A198: 2 | B198: 210 | C198: 2210 | D198: 2210 | E198: =IF(LEN(D198)=4,"0"&D198,D198) -> 02210 | F198: =IF(B198=0,LEFT(E198,2),E198) -> 02210 | G198: 青森県 | J198: 平川市 | K198: ひらかわし | L198: =IF(B198=0,G198,IF(J198="",H198,J198)) -> 平川市 | M198: =_xlfn.CONCAT(G198,L198) -> 青森県平川市 | N198: =E198 -> 02210
A199: 2 | B199: 301 | C199: 2301 | D199: 2301 | E199: =IF(LEN(D199)=4,"0"&D199,D199) -> 02301 | F199: =IF(B199=0,LEFT(E199,2),E199) -> 02301 | G199: 青森県 | H199: 東津軽郡 | J199: 平内町 | K199: ひらないまち | L199: =IF(B199=0,G199,IF(J199="",H199,J199)) -> 平内町 | M199: =_xlfn.CONCAT(G199,L199) -> 青森県平内町 | N199: =E199 -> 02301
A200: 2 | B200: 303 | C200: 2303 | D200: 2303 | E200: =IF(LEN(D200)=4,"0"&D200,D200) -> 02303 | F200: =IF(B200=0,LEFT(E200,2),E200) -> 02303 | G200: 青森県 | H200: 東津軽郡 | J200: 今別町 | K200: いまべつまち | L200: =IF(B200=0,G200,IF(J200="",H200,J200)) -> 今別町 | M200: =_xlfn.CONCAT(G200,L200) -> 青森県今別町 | N200: =E200 -> 02303
A201: 2 | B201: 304 | C201: 2304 | D201: 2304 | E201: =IF(LEN(D201)=4,"0"&D201,D201) -> 02304 | F201: =IF(B201=0,LEFT(E201,2),E201) -> 02304 | G201: 青森県 | H201: 東津軽郡 | J201: 蓬田村 | K201: よもぎたむら | L201: =IF(B201=0,G201,IF(J201="",H201,J201)) -> 蓬田村 | M201: =_xlfn.CONCAT(G201,L201) -> 青森県蓬田村 | N201: =E201 -> 02304
A202: 2 | B202: 307 | C202: 2307 | D202: 2307 | E202: =IF(LEN(D202)=4,"0"&D202,D202) -> 02307 | F202: =IF(B202=0,LEFT(E202,2),E202) -> 02307 | G202: 青森県 | H202: 東津軽郡 | J202: 外ヶ浜町 | K202: そとがはままち | L202: =IF(B202=0,G202,IF(J202="",H202,J202)) -> 外ヶ浜町 | M202: =_xlfn.CONCAT(G202,L202) -> 青森県外ヶ浜町 | N202: =E202 -> 02307
A203: 2 | B203: 321 | C203: 2321 | D203: 2321 | E203: =IF(LEN(D203)=4,"0"&D203,D203) -> 02321 | F203: =IF(B203=0,LEFT(E203,2),E203) -> 02321 | G203: 青森県 | H203: 西津軽郡 | J203: 鰺ヶ沢町 | K203: あじがさわまち | L203: =IF(B203=0,G203,IF(J203="",H203,J203)) -> 鰺ヶ沢町 | M203: =_xlfn.CONCAT(G203,L203) -> 青森県鰺ヶ沢町 | N203: =E203 -> 02321
A204: 2 | B204: 323 | C204: 2323 | D204: 2323 | E204: =IF(LEN(D204)=4,"0"&D204,D204) -> 02323 | F204: =IF(B204=0,LEFT(E204,2),E204) -> 02323 | G204: 青森県 | H204: 西津軽郡 | J204: 深浦町 | K204: ふかうらまち | L204: =IF(B204=0,G204,IF(J204="",H204,J204)) -> 深浦町 | M204: =_xlfn.CONCAT(G204,L204) -> 青森県深浦町 | N204: =E204 -> 02323
A205: 2 | B205: 343 | C205: 2343 | D205: 2343 | E205: =IF(LEN(D205)=4,"0"&D205,D205) -> 02343 | F205: =IF(B205=0,LEFT(E205,2),E205) -> 02343 | G205: 青森県 | H205: 中津軽郡 | J205: 西目屋村 | K205: にしめやむら | L205: =IF(B205=0,G205,IF(J205="",H205,J205)) -> 西目屋村 | M205: =_xlfn.CONCAT(G205,L205) -> 青森県西目屋村 | N205: =E205 -> 02343
A206: 2 | B206: 361 | C206: 2361 | D206: 2361 | E206: =IF(LEN(D206)=4,"0"&D206,D206) -> 02361 | F206: =IF(B206=0,LEFT(E206,2),E206) -> 02361 | G206: 青森県 | H206: 南津軽郡 | J206: 藤崎町 | K206: ふじさきまち | L206: =IF(B206=0,G206,IF(J206="",H206,J206)) -> 藤崎町 | M206: =_xlfn.CONCAT(G206,L206) -> 青森県藤崎町 | N206: =E206 -> 02361
A207: 2 | B207: 362 | C207: 2362 | D207: 2362 | E207: =IF(LEN(D207)=4,"0"&D207,D207) -> 02362 | F207: =IF(B207=0,LEFT(E207,2),E207) -> 02362 | G207: 青森県 | H207: 南津軽郡 | J207: 大鰐町 | K207: おおわにまち | L207: =IF(B207=0,G207,IF(J207="",H207,J207)) -> 大鰐町 | M207: =_xlfn.CONCAT(G207,L207) -> 青森県大鰐町 | N207: =E207 -> 02362
A208: 2 | B208: 367 | C208: 2367 | D208: 2367 | E208: =IF(LEN(D208)=4,"0"&D208,D208) -> 02367 | F208: =IF(B208=0,LEFT(E208,2),E208) -> 02367 | G208: 青森県 | H208: 南津軽郡 | J208: 田舎館村 | K208: いなかだてむら | L208: =IF(B208=0,G208,IF(J208="",H208,J208)) -> 田舎館村 | M208: =_xlfn.CONCAT(G208,L208) -> 青森県田舎館村 | N208: =E208 -> 02367
A209: 2 | B209: 381 | C209: 2381 | D209: 2381 | E209: =IF(LEN(D209)=4,"0"&D209,D209) -> 02381 | F209: =IF(B209=0,LEFT(E209,2),E209) -> 02381 | G209: 青森県 | H209: 北津軽郡 | J209: 板柳町 | K209: いたやなぎまち | L209: =IF(B209=0,G209,IF(J209="",H209,J209)) -> 板柳町 | M209: =_xlfn.CONCAT(G209,L209) -> 青森県板柳町 | N209: =E209 -> 02381
A210: 2 | B210: 384 | C210: 2384 | D210: 2384 | E210: =IF(LEN(D210)=4,"0"&D210,D210) -> 02384 | F210: =IF(B210=0,LEFT(E210,2),E210) -> 02384 | G210: 青森県 | H210: 北津軽郡 | J210: 鶴田町 | K210: つるたまち | L210: =IF(B210=0,G210,IF(J210="",H210,J210)) -> 鶴田町 | M210: =_xlfn.CONCAT(G210,L210) -> 青森県鶴田町 | N210: =E210 -> 02384
... A228: 2 | B228: 450 | C228: 2450 | D228: 2450 | E228: =IF(LEN(D228)=4,"0"&D228,D228) -> 02450 | F228: =IF(B228=0,LEFT(E228,2),E228) -> 02450 | G228: 青森県 | H228: 三戸郡 | J228: 新郷村 | K228: しんごうむら | L228: =IF(B228=0,G228,IF(J228="",H228,J228)) -> 新郷村 | M228: =_xlfn.CONCAT(G228,L228) -> 青森県新郷村 | N228: =E228 -> 02450
A229: 3 | B229: 0 | C229: 3000 | D229: 3000 | E229: =IF(LEN(D229)=4,"0"&D229,D229) -> 03000 | F229: =IF(B229=0,LEFT(E229,2),E229) -> 03 | G229: 岩手県 | K229: いわてけん | L229: =IF(B229=0,G229,IF(J229="",H229,J229)) -> 岩手県 | M229: =_xlfn.CONCAT(G229,L229) -> 岩手県岩手県 | N229: =E229 -> 03000
A230: 3 | B230: 201 | C230: 3201 | D230: 3201 | E230: =IF(LEN(D230)=4,"0"&D230,D230) -> 03201 | F230: =IF(B230=0,LEFT(E230,2),E230) -> 03201 | G230: 岩手県 | J230: 盛岡市 | K230: もりおかし | L230: =IF(B230=0,G230,IF(J230="",H230,J230)) -> 盛岡市 | M230: =_xlfn.CONCAT(G230,L230) -> 岩手県盛岡市 | N230: =E230 -> 03201
A231: 3 | B231: 202 | C231: 3202 | D231: 3202 | E231: =IF(LEN(D231)=4,"0"&D231,D231) -> 03202 | F231: =IF(B231=0,LEFT(E231,2),E231) -> 03202 | G231: 岩手県 | J231: 宮古市 | K231: みやこし | L231: =IF(B231=0,G231,IF(J231="",H231,J231)) -> 宮古市 | M231: =_xlfn.CONCAT(G231,L231) -> 岩手県宮古市 | N231: =E231 -> 03202
A232: 3 | B232: 203 | C232: 3203 | D232: 3203 | E232: =IF(LEN(D232)=4,"0"&D232,D232) -> 03203 | F232: =IF(B232=0,LEFT(E232,2),E232) -> 03203 | G232: 岩手県 | J232: 大船渡市 | K232: おおふなとし | L232: =IF(B232=0,G232,IF(J232="",H232,J232)) -> 大船渡市 | M232: =_xlfn.CONCAT(G232,L232) -> 岩手県大船渡市 | N232: =E232 -> 03203
A233: 3 | B233: 205 | C233: 3205 | D233: 3205 | E233: =IF(LEN(D233)=4,"0"&D233,D233) -> 03205 | F233: =IF(B233=0,LEFT(E233,2),E233) -> 03205 | G233: 岩手県 | J233: 花巻市 | K233: はなまきし | L233: =IF(B233=0,G233,IF(J233="",H233,J233)) -> 花巻市 | M233: =_xlfn.CONCAT(G233,L233) -> 岩手県花巻市 | N233: =E233 -> 03205
A234: 3 | B234: 206 | C234: 3206 | D234: 3206 | E234: =IF(LEN(D234)=4,"0"&D234,D234) -> 03206 | F234: =IF(B234=0,LEFT(E234,2),E234) -> 03206 | G234: 岩手県 | J234: 北上市 | K234: きたかみし | L234: =IF(B234=0,G234,IF(J234="",H234,J234)) -> 北上市 | M234: =_xlfn.CONCAT(G234,L234) -> 岩手県北上市 | N234: =E234 -> 03206
A235: 3 | B235: 207 | C235: 3207 | D235: 3207 | E235: =IF(LEN(D235)=4,"0"&D235,D235) -> 03207 | F235: =IF(B235=0,LEFT(E235,2),E235) -> 03207 | G235: 岩手県 | J235: 久慈市 | K235: くじし | L235: =IF(B235=0,G235,IF(J235="",H235,J235)) -> 久慈市 | M235: =_xlfn.CONCAT(G235,L235) -> 岩手県久慈市 | N235: =E235 -> 03207
A236: 3 | B236: 208 | C236: 3208 | D236: 3208 | E236: =IF(LEN(D236)=4,"0"&D236,D236) -> 03208 | F236: =IF(B236=0,LEFT(E236,2),E236) -> 03208 | G236: 岩手県 | J236: 遠野市 | K236: とおのし | L236: =IF(B236=0,G236,IF(J236="",H236,J236)) -> 遠野市 | M236: =_xlfn.CONCAT(G236,L236) -> 岩手県遠野市 | N236: =E236 -> 03208
A237: 3 | B237: 209 | C237: 3209 | D237: 3209 | E237: =IF(LEN(D237)=4,"0"&D237,D237) -> 03209 | F237: =IF(B237=0,LEFT(E237,2),E237) -> 03209 | G237: 岩手県 | J237: 一関市 | K237: いちのせきし | L237: =IF(B237=0,G237,IF(J237="",H237,J237)) -> 一関市 | M237: =_xlfn.CONCAT(G237,L237) -> 岩手県一関市 | N237: =E237 -> 03209
A238: 3 | B238: 210 | C238: 3210 | D238: 3210 | E238: =IF(LEN(D238)=4,"0"&D238,D238) -> 03210 | F238: =IF(B238=0,LEFT(E238,2),E238) -> 03210 | G238: 岩手県 | J238: 陸前高田市 | K238: りくぜんたかたし | L238: =IF(B238=0,G238,IF(J238="",H238,J238)) -> 陸前高田市 | M238: =_xlfn.CONCAT(G238,L238) -> 岩手県陸前高田市 | N238: =E238 -> 03210
A239: 3 | B239: 211 | C239: 3211 | D239: 3211 | E239: =IF(LEN(D239)=4,"0"&D239,D239) -> 03211 | F239: =IF(B239=0,LEFT(E239,2),E239) -> 03211 | G239: 岩手県 | J239: 釜石市 | K239: かまいしし | L239: =IF(B239=0,G239,IF(J239="",H239,J239)) -> 釜石市 | M239: =_xlfn.CONCAT(G239,L239) -> 岩手県釜石市 | N239: =E239 -> 03211
A240: 3 | B240: 213 | C240: 3213 | D240: 3213 | E240: =IF(LEN(D240)=4,"0"&D240,D240) -> 03213 | F240: =IF(B240=0,LEFT(E240,2),E240) -> 03213 | G240: 岩手県 | J240: 二戸市 | K240: にのへし | L240: =IF(B240=0,G240,IF(J240="",H240,J240)) -> 二戸市 | M240: =_xlfn.CONCAT(G240,L240) -> 岩手県二戸市 | N240: =E240 -> 03213
A241: 3 | B241: 214 | C241: 3214 | D241: 3214 | E241: =IF(LEN(D241)=4,"0"&D241,D241) -> 03214 | F241: =IF(B241=0,LEFT(E241,2),E241) -> 03214 | G241: 岩手県 | J241: 八幡平市 | K241: はちまんたいし | L241: =IF(B241=0,G241,IF(J241="",H241,J241)) -> 八幡平市 | M241: =_xlfn.CONCAT(G241,L241) -> 岩手県八幡平市 | N241: =E241 -> 03214
... A243: 3 | B243: 216 | C243: 3216 | D243: 3216 | E243: =IF(LEN(D243)=4,"0"&D243,D243) -> 03216 | F243: =IF(B243=0,LEFT(E243,2),E243) -> 03216 | G243: 岩手県 | J243: 滝沢市 | K243: たきざわし | L243: =IF(B243=0,G243,IF(J243="",H243,J243)) -> 滝沢市 | M243: =_xlfn.CONCAT(G243,L243) -> 岩手県滝沢市 | N243: =E243 -> 03216
A244: 3 | B244: 301 | C244: 3301 | D244: 3301 | E244: =IF(LEN(D244)=4,"0"&D244,D244) -> 03301 | F244: =IF(B244=0,LEFT(E244,2),E244) -> 03301 | G244: 岩手県 | H244: 岩手郡 | J244: 雫石町 | K244: しずくいしちょう | L244: =IF(B244=0,G244,IF(J244="",H244,J244)) -> 雫石町 | M244: =_xlfn.CONCAT(G244,L244) -> 岩手県雫石町 | N244: =E244 -> 03301
A245: 3 | B245: 302 | C245: 3302 | D245: 3302 | E245: =IF(LEN(D245)=4,"0"&D245,D245) -> 03302 | F245: =IF(B245=0,LEFT(E245,2),E245) -> 03302 | G245: 岩手県 | H245: 岩手郡 | J245: 葛巻町 | K245: くずまきまち | L245: =IF(B245=0,G245,IF(J245="",H245,J245)) -> 葛巻町 | M245: =_xlfn.CONCAT(G245,L245) -> 岩手県葛巻町 | N245: =E245 -> 03302
A246: 3 | B246: 303 | C246: 3303 | D246: 3303 | E246: =IF(LEN(D246)=4,"0"&D246,D246) -> 03303 | F246: =IF(B246=0,LEFT(E246,2),E246) -> 03303 | G246: 岩手県 | H246: 岩手郡 | J246: 岩手町 | K246: いわてまち | L246: =IF(B246=0,G246,IF(J246="",H246,J246)) -> 岩手町 | M246: =_xlfn.CONCAT(G246,L246) -> 岩手県岩手町 | N246: =E246 -> 03303
A247: 3 | B247: 321 | C247: 3321 | D247: 3321 | E247: =IF(LEN(D247)=4,"0"&D247,D247) -> 03321 | F247: =IF(B247=0,LEFT(E247,2),E247) -> 03321 | G247: 岩手県 | H247: 紫波郡 | J247: 紫波町 | K247: しわちょう | L247: =IF(B247=0,G247,IF(J247="",H247,J247)) -> 紫波町 | M247: =_xlfn.CONCAT(G247,L247) -> 岩手県紫波町 | N247: =E247 -> 03321
A248: 3 | B248: 322 | C248: 3322 | D248: 3322 | E248: =IF(LEN(D248)=4,"0"&D248,D248) -> 03322 | F248: =IF(B248=0,LEFT(E248,2),E248) -> 03322 | G248: 岩手県 | H248: 紫波郡 | J248: 矢巾町 | K248: やはばちょう | L248: =IF(B248=0,G248,IF(J248="",H248,J248)) -> 矢巾町 | M248: =_xlfn.CONCAT(G248,L248) -> 岩手県矢巾町 | N248: =E248 -> 03322
A249: 3 | B249: 366 | C249: 3366 | D249: 3366 | E249: =IF(LEN(D249)=4,"0"&D249,D249) -> 03366 | F249: =IF(B249=0,LEFT(E249,2),E249) -> 03366 | G249: 岩手県 | H249: 和賀郡 | J249: 西和賀町 | K249: にしわがまち | L249: =IF(B249=0,G249,IF(J249="",H249,J249)) -> 西和賀町 | M249: =_xlfn.CONCAT(G249,L249) -> 岩手県西和賀町 | N249: =E249 -> 03366
A250: 3 | B250: 381 | C250: 3381 | D250: 3381 | E250: =IF(LEN(D250)=4,"0"&D250,D250) -> 03381 | F250: =IF(B250=0,LEFT(E250,2),E250) -> 03381 | G250: 岩手県 | H250: 胆沢郡 | J250: 金ケ崎町 | K250: かねがさきちょう | L250: =IF(B250=0,G250,IF(J250="",H250,J250)) -> 金ケ崎町 | M250: =_xlfn.CONCAT(G250,L250) -> 岩手県金ケ崎町 | N250: =E250 -> 03381
A251: 3 | B251: 402 | C251: 3402 | D251: 3402 | E251: =IF(LEN(D251)=4,"0"&D251,D251) -> 03402 | F251: =IF(B251=0,LEFT(E251,2),E251) -> 03402 | G251: 岩手県 | H251: 西磐井郡 | J251: 平泉町 | K251: ひらいずみちょう | L251: =IF(B251=0,G251,IF(J251="",H251,J251)) -> 平泉町 | M251: =_xlfn.CONCAT(G251,L251) -> 岩手県平泉町 | N251: =E251 -> 03402
A252: 3 | B252: 441 | C252: 3441 | D252: 3441 | E252: =IF(LEN(D252)=4,"0"&D252,D252) -> 03441 | F252: =IF(B252=0,LEFT(E252,2),E252) -> 03441 | G252: 岩手県 | H252: 気仙郡 | J252: 住田町 | K252: すみたちょう | L252: =IF(B252=0,G252,IF(J252="",H252,J252)) -> 住田町 | M252: =_xlfn.CONCAT(G252,L252) -> 岩手県住田町 | N252: =E252 -> 03441
A253: 3 | B253: 461 | C253: 3461 | D253: 3461 | E253: =IF(LEN(D253)=4,"0"&D253,D253) -> 03461 | F253: =IF(B253=0,LEFT(E253,2),E253) -> 03461 | G253: 岩手県 | H253: 上閉伊郡 | J253: 大槌町 | K253: おおつちちょう | L253: =IF(B253=0,G253,IF(J253="",H253,J253)) -> 大槌町 | M253: =_xlfn.CONCAT(G253,L253) -> 岩手県大槌町 | N253: =E253 -> 03461
A254: 3 | B254: 482 | C254: 3482 | D254: 3482 | E254: =IF(LEN(D254)=4,"0"&D254,D254) -> 03482 | F254: =IF(B254=0,LEFT(E254,2),E254) -> 03482 | G254: 岩手県 | H254: 下閉伊郡 | J254: 山田町 | K254: やまだまち | L254: =IF(B254=0,G254,IF(J254="",H254,J254)) -> 山田町 | M254: =_xlfn.CONCAT(G254,L254) -> 岩手県山田町 | N254: =E254 -> 03482
A255: 3 | B255: 483 | C255: 3483 | D255: 3483 | E255: =IF(LEN(D255)=4,"0"&D255,D255) -> 03483 | F255: =IF(B255=0,LEFT(E255,2),E255) -> 03483 | G255: 岩手県 | H255: 下閉伊郡 | J255: 岩泉町 | K255: いわいずみちょう | L255: =IF(B255=0,G255,IF(J255="",H255,J255)) -> 岩泉町 | M255: =_xlfn.CONCAT(G255,L255) -> 岩手県岩泉町 | N255: =E255 -> 03483
... A262: 3 | B262: 524 | C262: 3524 | D262: 3524 | E262: =IF(LEN(D262)=4,"0"&D262,D262) -> 03524 | F262: =IF(B262=0,LEFT(E262,2),E262) -> 03524 | G262: 岩手県 | H262: 二戸郡 | J262: 一戸町 | K262: いちのへまち | L262: =IF(B262=0,G262,IF(J262="",H262,J262)) -> 一戸町 | M262: =_xlfn.CONCAT(G262,L262) -> 岩手県一戸町 | N262: =E262 -> 03524
A263: 4 | B263: 0 | C263: 4000 | D263: 4000 | E263: =IF(LEN(D263)=4,"0"&D263,D263) -> 04000 | F263: =IF(B263=0,LEFT(E263,2),E263) -> 04 | G263: 宮城県 | K263: みやぎけん | L263: =IF(B263=0,G263,IF(J263="",H263,J263)) -> 宮城県 | M263: =_xlfn.CONCAT(G263,L263) -> 宮城県宮城県 | N263: =E263 -> 04000
A264: 4 | B264: 100 | C264: 4100 | D264: 4100 | E264: =IF(LEN(D264)=4,"0"&D264,D264) -> 04100 | F264: =IF(B264=0,LEFT(E264,2),E264) -> 04100 | G264: 宮城県 | H264: 仙台市 | K264: せんだいし | L264: =IF(B264=0,G264,IF(J264="",H264,J264)) -> 仙台市 | M264: =_xlfn.CONCAT(G264,L264) -> 宮城県仙台市 | N264: =E264 -> 04100
A265: 4 | B265: 202 | C265: 4202 | D265: 4202 | E265: =IF(LEN(D265)=4,"0"&D265,D265) -> 04202 | F265: =IF(B265=0,LEFT(E265,2),E265) -> 04202 | G265: 宮城県 | J265: 石巻市 | K265: いしのまきし | L265: =IF(B265=0,G265,IF(J265="",H265,J265)) -> 石巻市 | M265: =_xlfn.CONCAT(G265,L265) -> 宮城県石巻市 | N265: =E265 -> 04202
A266: 4 | B266: 203 | C266: 4203 | D266: 4203 | E266: =IF(LEN(D266)=4,"0"&D266,D266) -> 04203 | F266: =IF(B266=0,LEFT(E266,2),E266) -> 04203 | G266: 宮城県 | J266: 塩竈市 | K266: しおがまし | L266: =IF(B266=0,G266,IF(J266="",H266,J266)) -> 塩竈市 | M266: =_xlfn.CONCAT(G266,L266) -> 宮城県塩竈市 | N266: =E266 -> 04203
A267: 4 | B267: 205 | C267: 4205 | D267: 4205 | E267: =IF(LEN(D267)=4,"0"&D267,D267) -> 04205 | F267: =IF(B267=0,LEFT(E267,2),E267) -> 04205 | G267: 宮城県 | J267: 気仙沼市 | K267: けせんぬまし | L267: =IF(B267=0,G267,IF(J267="",H267,J267)) -> 気仙沼市 | M267: =_xlfn.CONCAT(G267,L267) -> 宮城県気仙沼市 | N267: =E267 -> 04205
A268: 4 | B268: 206 | C268: 4206 | D268: 4206 | E268: =IF(LEN(D268)=4,"0"&D268,D268) -> 04206 | F268: =IF(B268=0,LEFT(E268,2),E268) -> 04206 | G268: 宮城県 | J268: 白石市 | K268: しろいしし | L268: =IF(B268=0,G268,IF(J268="",H268,J268)) -> 白石市 | M268: =_xlfn.CONCAT(G268,L268) -> 宮城県白石市 | N268: =E268 -> 04206
A269: 4 | B269: 207 | C269: 4207 | D269: 4207 | E269: =IF(LEN(D269)=4,"0"&D269,D269) -> 04207 | F269: =IF(B269=0,LEFT(E269,2),E269) -> 04207 | G269: 宮城県 | J269: 名取市 | K269: なとりし | L269: =IF(B269=0,G269,IF(J269="",H269,J269)) -> 名取市 | M269: =_xlfn.CONCAT(G269,L269) -> 宮城県名取市 | N269: =E269 -> 04207
A270: 4 | B270: 208 | C270: 4208 | D270: 4208 | E270: =IF(LEN(D270)=4,"0"&D270,D270) -> 04208 | F270: =IF(B270=0,LEFT(E270,2),E270) -> 04208 | G270: 宮城県 | J270: 角田市 | K270: かくだし | L270: =IF(B270=0,G270,IF(J270="",H270,J270)) -> 角田市 | M270: =_xlfn.CONCAT(G270,L270) -> 宮城県角田市 | N270: =E270 -> 04208
A271: 4 | B271: 209 | C271: 4209 | D271: 4209 | E271: =IF(LEN(D271)=4,"0"&D271,D271) -> 04209 | F271: =IF(B271=0,LEFT(E271,2),E271) -> 04209 | G271: 宮城県 | J271: 多賀城市 | K271: たがじょうし | L271: =IF(B271=0,G271,IF(J271="",H271,J271)) -> 多賀城市 | M271: =_xlfn.CONCAT(G271,L271) -> 宮城県多賀城市 | N271: =E271 -> 04209
...
